BEGIN:VCALENDAR
VERSION:2.0
PRODID:-//wp-events-plugin.com//7.2.3.1//EN
BEGIN:VEVENT
UID:146@ecmidvesselinspectors.com
DTSTART:20260902T090000Z
DTEND:20260902T160000Z
DTSTAMP:20260421T123408Z
URL:https://www.ecmidvesselinspectors.com/events/ecmid-avi-validation-cour
 se-full-day/
SUMMARY:eCMID AVI validation course (full day)
DESCRIPTION:We are pleased to announce that an online course has been confi
 rmed for September 2026.\n\nThe full day eCMID AVI (Accredited Vessel Insp
 ector) course will be delivered online via Zoom on Wednesday 2nd September
   2026. This course is for newly accredited AVIs\, or for those who are i
 nterested in applying to the eCMID AVI scheme and becoming an AVI. Upon ac
 hieving AVI status\, it is a requirement to validate their accreditation b
 y attending an eCMID AVI online course within one year.\n\nThe cost of the
  eCMID AVI course is £475.00. This includes all preparatory material\, an
  interactive role-play session and an eCMID AVI Course Pack. There is a mu
 ltiple-choice test on the day upon which\, if you are successful in passin
 g\, you will receive a Certificate awarding 4 CPD points.\n\nTo secure you
 r place\, please do so via our secure online booking system – Click her
 e to book and pay for your place
END:VEVENT
END:VCALENDAR