BEGIN:VCALENDAR
VERSION:2.0
PRODID:-//wp-events-plugin.com//7.2.3.1//EN
BEGIN:VEVENT
UID:147@ecmidvesselinspectors.com
DTSTART:20260902T090000Z
DTEND:20260902T160000Z
DTSTAMP:20260422T085905Z
URL:https://www.ecmidvesselinspectors.com/events/ecmid-avi-validation-cour
 se-3/
SUMMARY:eCMID AVI validation course
DESCRIPTION:We are pleased to announce that an online course has been confi
 rmed for June 2026.\n\nThe full day eCMID AVI (Accredited Vessel Inspector
 ) course will be delivered online via Zoom on Wednesday 2nd September 2026
 . This course is for newly accredited AVIs\, or for those who are interest
 ed in applying to the eCMID AVI scheme and becoming an AVI. Upon achieving
  AVI status\, it is a requirement to validate their accreditation by atten
 ding an eCMID AVI online course within one year.\n\nThe cost of the eCMID 
 AVI course is £475.00. This includes all preparatory material\, an intera
 ctive role-play session and an eCMID AVI Course Pack. There is a multiple-
 choice test on the day upon which\, if you are successful in passing\, you
  will receive a Certificate awarding 4 CPD points.\n\nTo secure your place
 \, please do so via our secure online booking system – Click here to bo
 ok and pay for your place
END:VEVENT
END:VCALENDAR