BEGIN:VCALENDAR
VERSION:2.0
PRODID:-//wp-events-plugin.com//7.2.3.1//EN
BEGIN:VEVENT
UID:118@ecmidvesselinspectors.com
DTSTART:20260102T090000Z
DTEND:20260102T120000Z
DTSTAMP:20250902T130041Z
URL:https://www.ecmidvesselinspectors.com/events/ecmid-avi-5-year-revalida
 tion-part-two-mandatory-refresher-course-8/
SUMMARY:eCMID AVI 5 Year Revalidation - Part Two Mandatory Refresher Course
DESCRIPTION:Part Two Mandatory Refresher Course - January 2026\n\nThe next 
 online course has been confirmed for Friday 2 January 2026.\n\nThis course
  provides easy access to the refresher material in an online format with T
 utor support. This will enable any AVI wherever they are in the world to a
 ccess the refresher course at a time when it is suitable for them without 
 the costs of travel etc.\n\nThe course contents will include:\n\n 	all upd
 ates to systems and report documents\n 	samples of ’good’ vs ‘bad’
  reports to demonstrate expected quality of reports\n 	a short online test
  to complete from a pool of multi choice questions\n 	FOUR CPD POINTS\n\nT
 he fee for the Part Two Mandatory Refresher Course is £150.00 and it is a
  half day online course from 09.00hrs to 12.00noon (GMT/London time). To s
 ecure your place\, please do so via our secure online booking system - Cli
 ck here to reserve and pay for your place\n\nFor any enquiries please cont
 act Sharon Holland\, Business Developer and Course Executive at msacourses
 @iims.org.uk\n\n&nbsp\;
END:VEVENT
END:VCALENDAR